BEGIN:VCALENDAR
VERSION:2.0
PRODID:-//Big4 Port Fairy - ECPv4.9.13//NONSGML v1.0//EN
CALSCALE:GREGORIAN
METHOD:PUBLISH
X-WR-CALNAME:Big4 Port Fairy
X-ORIGINAL-URL:https://www.big4portfairy.com.au
X-WR-CALDESC:Events for Big4 Port Fairy
BEGIN:VTIMEZONE
TZID:UTC
BEGIN:STANDARD
TZOFFSETFROM:+0000
TZOFFSETTO:+0000
TZNAME:UTC
DTSTART:20210101T000000
END:STANDARD
END:VTIMEZONE
BEGIN:VEVENT
DTSTART;VALUE=DATE:20210213
DTEND;VALUE=DATE:20210214
DTSTAMP:20210227T233636
CREATED:20160608T010930Z
LAST-MODIFIED:20160608T010930Z
UID:1944-1613174400-1613260799@www.big4portfairy.com.au
SUMMARY:Port Fairy Community Market
DESCRIPTION: \nHeld on the 2nd and 4th Saturday of the month\, the community market has anywhere between 25 and 80 stalls selling crafts\, plants\, food and local produce\, jewellery and many other items. \nPlease note there is no market on the 4th Saturday in December and during January the market moves to King George Square adjacent to the Fishermen’s Wharf in Gipps Street.   There is also a market on New Years Day regardless of the day it falls on. \n
URL:https://www.big4portfairy.com.au/whats-on/port-fairy-community-market/2021-02-13/
LOCATION:Community House
END:VEVENT
END:VCALENDAR